BEGIN:VCALENDAR
VERSION:2.0
PRODID:-//https://wernergitt.de///NONSGML kigkonsult.se iCalcreator 2.10.15//
METHOD:PUBLISH
BEGIN:VEVENT
UID:20260419T142700CEST-1674HJtcbj@https://wernergitt.de/
DTSTAMP:20260419T122700Z
DESCRIPTION:Themen\nSamstag\, 14.06.2025\, 10:00 Uhr:Herkunft des Lebens au
 s der Sicht der Naturgesetze der Information\nSamstag\, 14.06.2025\, 11:30
  Uhr:Jesus: Herr über Raum und Zeit\nKontakt (Veranstalter)\nTel.: 0172 – 
 664 95 34\nUnser Vorschlag:Selbst kommen und andere mitbringen!\nhttps://w
 ernergitt.de/veranstaltungen/werner-gitt/event/4131-vortraege
DTSTART:20250614T084400Z
DTEND:20250614T104400Z
LOCATION:Hoop-Kirche Achim (Alte Finien 20\, 28832 Achim\, Deutschland)
SUMMARY:Vorträge von Dir. und Prof. a.D. Dr. Werner Gitt
URL:https://wernergitt.de/veranstaltungen/werner-gitt/event/4131-vortraege
END:VEVENT
END:VCALENDAR
