BEGIN:VCALENDAR
VERSION:2.0
PRODID:-//https://wernergitt.de///NONSGML kigkonsult.se iCalcreator 2.10.15//
METHOD:PUBLISH
BEGIN:VEVENT
UID:20260419T142656CEST-8391C1Vvvv@https://wernergitt.de/
DTSTAMP:20260419T122656Z
DESCRIPTION:Weitere Infos\nGottesdienst um 10.00 UhrThema: Auf der Überhols
 pur und doch vorbei!\nUnser Vorschlag:Selbst kommen und andere mitbringen!
 \nhttps://wernergitt.de/veranstaltungen/bruderhand/event/4100-predigt
DTSTART:20251026T074200Z
DTEND:20251026T094200Z
LOCATION:Freie Biblische Gemeinde Schwäbisch Gmünd (Schwerzerallee 22\, 735
 25 Schwäbisch Gmünd\, Deutschland)
SUMMARY:Predigt von Christian Kutsch
URL:https://wernergitt.de/veranstaltungen/bruderhand/event/4100-predigt
END:VEVENT
END:VCALENDAR
