BEGIN:VCALENDAR
VERSION:2.0
PRODID:-//https://wernergitt.de///NONSGML kigkonsult.se iCalcreator 2.10.15//
METHOD:PUBLISH
BEGIN:VEVENT
UID:20260421T100112CEST-0834mbrWaf@https://wernergitt.de/
DTSTAMP:20260421T080112Z
DESCRIPTION:\nhttps://wernergitt.de/veranstaltungen/bruderhand/event/3937-p
 redigten-beim-espelcamp
DTSTART:20250727T081700Z
DTEND:20250803T101700Z
LOCATION:Freie evangelische Bibelgemeinde Espelkamp (General-Bishop-Straße 
 52\, 32339 Espelkamp\, Deutschland)
SUMMARY:Predigten beim Espelcamp von Edgar Lück
URL:https://wernergitt.de/veranstaltungen/bruderhand/event/3937-predigten-b
 eim-espelcamp
END:VEVENT
END:VCALENDAR
