BEGIN:VCALENDAR
VERSION:2.0
PRODID:-//https://wernergitt.de///NONSGML kigkonsult.se iCalcreator 2.10.15//
METHOD:PUBLISH
BEGIN:VEVENT
UID:20260421T095938CEST-91884m0UcM@https://wernergitt.de/
DTSTAMP:20260421T075938Z
DESCRIPTION:Gottesdienst um 10.00 Uhr\nhttps://wernergitt.de/infos/termine/
 event/4248-predigt
DTSTART:20260315T122900Z
DTEND:20260315T142900Z
LOCATION:Evangelische Freikirche Heidenoldendorf (Adolf-Meier-Straße 36\, 3
 2758 Detmold\, Deutschland)
SUMMARY:Predigt von Edgar Lück
URL:https://wernergitt.de/infos/termine/event/4248-predigt
END:VEVENT
END:VCALENDAR
